BEGIN:VCALENDAR
VERSION:2.0
METHOD:PUBLISH
PRODID:-//imacoda.com//SPD-Web-O-Mat//EN
CALSCALE:GREGORIAN
BEGIN:VTIMEZONE
TZID:Europe/Berlin
BEGIN:DAYLIGHT
TZOFFSETFROM:+0100
RRULE:FREQ=YEARLY;BYMONTH=3;BYDAY=-1SU
DTSTART:19810329T020000
TZNAME:MESZ
TZOFFSETTO:+0200
END:DAYLIGHT
BEGIN:STANDARD
TZOFFSETFROM:+0200
RRULE:FREQ=YEARLY;BYMONTH=10;BYDAY=-1SU
DTSTART:19961027T030000
TZNAME:MEZ
TZOFFSETTO:+0100
END:STANDARD
END:VTIMEZONE
BEGIN:VEVENT
UID:20240226T184107Z-00000955595-LULU@www.bayernspd.de
CREATED:20240226T184107Z
LAST-MODIFIED:20240227T221732Z
DTSTAMP:20240227T221732Z
TRANSP:TRANSPARENT
DTSTART;TZID=Europe/Berlin:20240406T143000
DTEND;TZID=Europe/Berlin:20240406T143000
SUMMARY:Erster Wallenfelser Preisschnauz
LOCATION:Sportheim Wallenfels
DESCRIPTION:Termin im Web (SPD-Kreisverband Kronach):\nhttps://spd-kreis
 -kronach.de/termine/?id=955595
END:VEVENT
END:VCALENDAR
